BEGIN:VCALENDAR
VERSION:2.0
PRODID:-//Alhoda Azhar - ECPv6.15.20//NONSGML v1.0//EN
CALSCALE:GREGORIAN
METHOD:PUBLISH
X-WR-CALNAME:Alhoda Azhar
X-ORIGINAL-URL:https://www.alhodaazhar.com
X-WR-CALDESC:Events for Alhoda Azhar
REFRESH-INTERVAL;VALUE=DURATION:PT1H
X-Robots-Tag:noindex
X-PUBLISHED-TTL:PT1H
BEGIN:VTIMEZONE
TZID:Africa/Cairo
BEGIN:DAYLIGHT
TZOFFSETFROM:+0200
TZOFFSETTO:+0300
TZNAME:EEST
DTSTART:20250424T220000
END:DAYLIGHT
BEGIN:STANDARD
TZOFFSETFROM:+0300
TZOFFSETTO:+0200
TZNAME:EET
DTSTART:20251030T210000
END:STANDARD
BEGIN:DAYLIGHT
TZOFFSETFROM:+0200
TZOFFSETTO:+0300
TZNAME:EEST
DTSTART:20260423T220000
END:DAYLIGHT
BEGIN:STANDARD
TZOFFSETFROM:+0300
TZOFFSETTO:+0200
TZNAME:EET
DTSTART:20261029T210000
END:STANDARD
BEGIN:DAYLIGHT
TZOFFSETFROM:+0200
TZOFFSETTO:+0300
TZNAME:EEST
DTSTART:20270429T220000
END:DAYLIGHT
BEGIN:STANDARD
TZOFFSETFROM:+0300
TZOFFSETTO:+0200
TZNAME:EET
DTSTART:20271028T210000
END:STANDARD
END:VTIMEZONE
BEGIN:VEVENT
DTSTART;TZID=Africa/Cairo:20260101T080000
DTEND;TZID=Africa/Cairo:20260101T143000
DTSTAMP:20260422T200048
CREATED:20251029T103001Z
LAST-MODIFIED:20251229T114034Z
UID:4551-1767254400-1767277800@www.alhodaazhar.com
SUMMARY:2nd Language Exam (Pr.6)
DESCRIPTION:We would like to inform our dear students that the Second Language Exam for Primary 6 will be held
URL:https://www.alhodaazhar.com/event/2nd-language-exam-pr-6/
CATEGORIES:Exams
END:VEVENT
BEGIN:VEVENT
DTSTART;TZID=Africa/Cairo:20260104T080000
DTEND;TZID=Africa/Cairo:20260106T143000
DTSTAMP:20260422T200048
CREATED:20251030T073438Z
LAST-MODIFIED:20251030T073438Z
UID:4603-1767513600-1767709800@www.alhodaazhar.com
SUMMARY:KG Assessment
DESCRIPTION:
URL:https://www.alhodaazhar.com/event/kg-assessment/
CATEGORIES:KG
END:VEVENT
BEGIN:VEVENT
DTSTART;TZID=Africa/Cairo:20260105T080000
DTEND;TZID=Africa/Cairo:20260105T130000
DTSTAMP:20260422T200048
CREATED:20251230T064035Z
LAST-MODIFIED:20251230T064035Z
UID:4751-1767600000-1767618000@www.alhodaazhar.com
SUMMARY:First term exam (Pr.3-5)
DESCRIPTION:We would like to announce that (Pr.3-5) exam  will be held .  \n✏️📘Students are encouraged to review their lessons carefully and do their best to achieve great results.
URL:https://www.alhodaazhar.com/event/first-term-exam-pr-3-5-2/
END:VEVENT
BEGIN:VEVENT
DTSTART;VALUE=DATE:20260107
DTEND;VALUE=DATE:20260108
DTSTAMP:20260422T200048
CREATED:20251007T064557Z
LAST-MODIFIED:20251008T084050Z
UID:4287-1767744000-1767830399@www.alhodaazhar.com
SUMMARY:Coptic Christmas Holiday
DESCRIPTION:We’re happy to announce that the school will be closed in celebration of Coptic Christmas. 🎄✨Wishing all our students and families a joyful holiday filled with peace and blessings.
URL:https://www.alhodaazhar.com/event/4287/
CATEGORIES:Holiday
END:VEVENT
BEGIN:VEVENT
DTSTART;VALUE=DATE:20260107
DTEND;VALUE=DATE:20260108
DTSTAMP:20260422T200048
CREATED:20251030T073536Z
LAST-MODIFIED:20251030T084635Z
UID:4605-1767744000-1767830399@www.alhodaazhar.com
SUMMARY:KG Vacation
DESCRIPTION:
URL:https://www.alhodaazhar.com/event/kg-vacation-2/
CATEGORIES:KG
END:VEVENT
BEGIN:VEVENT
DTSTART;TZID=Africa/Cairo:20260108T080000
DTEND;TZID=Africa/Cairo:20260108T130000
DTSTAMP:20260422T200048
CREATED:20251230T064349Z
LAST-MODIFIED:20251230T064349Z
UID:4753-1767859200-1767877200@www.alhodaazhar.com
SUMMARY:1st term assessment (Pr.1\, 2)
DESCRIPTION:We would like to announce that (Pr.1 & 2) exam  will be held .  \n✏️📘Students are encouraged to review their lessons carefully and do their best to achieve great results.
URL:https://www.alhodaazhar.com/event/1st-term-assessment-pr-1-2/
END:VEVENT
BEGIN:VEVENT
DTSTART;TZID=Africa/Cairo:20260108T080000
DTEND;TZID=Africa/Cairo:20260108T143000
DTSTAMP:20260422T200048
CREATED:20251007T064306Z
LAST-MODIFIED:20251029T103549Z
UID:4284-1767859200-1767882600@www.alhodaazhar.com
SUMMARY:E.A.L Exam (Pr. 3\,4\,5)
DESCRIPTION: \n\nWe would like to inform our dear students that the Second Language Exam for Primary 3\,4\,5 will be held
URL:https://www.alhodaazhar.com/event/%d8%a8%d8%af%d8%a7%d9%8a%d8%a9-%d8%a7%d9%84%d8%aa%d8%b5%d9%81%d9%8a%d8%a9-%d8%a7%d9%84%d8%a3%d9%88%d9%84%d9%89-%d9%84%d9%85%d8%b3%d8%a7%d8%a8%d9%82%d8%a9-%d8%a7%d9%84%d9%82%d8%b1%d8%a2%d9%86-%d8%a7/
CATEGORIES:Exams
END:VEVENT
BEGIN:VEVENT
DTSTART;TZID=Africa/Cairo:20260111T080000
DTEND;TZID=Africa/Cairo:20260111T150000
DTSTAMP:20260422T200048
CREATED:20251007T065151Z
LAST-MODIFIED:20251029T104955Z
UID:4292-1768118400-1768143600@www.alhodaazhar.com
SUMMARY:1St Term Assessment (Pr. 1\,2)
DESCRIPTION:1St Term Assessment (Pr. 1\,2) \n2nd Language Exam (Pr.3\,4\,5) \nاحتفال ختم ربع يس (Pr.4) \nWe would like to announce that the First Term Assessment will begin . 📝✨Students are encouraged to prepare well and show their best performance throughout the exams.
URL:https://www.alhodaazhar.com/event/1st-term-assessment-pr-12/
CATEGORIES:Exams
END:VEVENT
BEGIN:VEVENT
DTSTART;TZID=Africa/Cairo:20260112T080000
DTEND;TZID=Africa/Cairo:20260112T130000
DTSTAMP:20260422T200048
CREATED:20251230T064856Z
LAST-MODIFIED:20251230T064856Z
UID:4755-1768204800-1768222800@www.alhodaazhar.com
SUMMARY:E.A.L. exam (Pr.3)
DESCRIPTION:We would like to announce that (Pr.3) E.A.L. exam  will be held .  \n✏️📘Students are encouraged to review their lessons carefully and do their best to achieve great results.
URL:https://www.alhodaazhar.com/event/e-a-l-exam-pr-3/
END:VEVENT
BEGIN:VEVENT
DTSTART;TZID=Africa/Cairo:20260112T080000
DTEND;TZID=Africa/Cairo:20260112T130000
DTSTAMP:20260422T200048
CREATED:20251230T065124Z
LAST-MODIFIED:20251230T065124Z
UID:4757-1768204800-1768222800@www.alhodaazhar.com
SUMMARY:2nd Lang. exam (Pr.5)
DESCRIPTION:
URL:https://www.alhodaazhar.com/event/2nd-lang-exam-pr-5/
END:VEVENT
BEGIN:VEVENT
DTSTART;TZID=Africa/Cairo:20260112T080000
DTEND;TZID=Africa/Cairo:20260112T143000
DTSTAMP:20260422T200048
CREATED:20251007T065836Z
LAST-MODIFIED:20251029T104551Z
UID:4296-1768204800-1768228200@www.alhodaazhar.com
SUMMARY:First Term Exam (pr.6)
DESCRIPTION:We would like to announce that the First Term Exams will start . 📝🎯Students are encouraged to study well and do their best to achieve excellent results.
URL:https://www.alhodaazhar.com/event/first-term-exam-pr-6/
CATEGORIES:Exams
END:VEVENT
BEGIN:VEVENT
DTSTART;TZID=Africa/Cairo:20260112T080000
DTEND;TZID=Africa/Cairo:20260112T150000
DTSTAMP:20260422T200048
CREATED:20251030T090049Z
LAST-MODIFIED:20251030T090049Z
UID:4607-1768204800-1768230000@www.alhodaazhar.com
SUMMARY:Assembly (KG 1 & KG 2)
DESCRIPTION:
URL:https://www.alhodaazhar.com/event/assembly-kg-1-kg-2/
CATEGORIES:KG
END:VEVENT
BEGIN:VEVENT
DTSTART;TZID=Africa/Cairo:20260113T080000
DTEND;TZID=Africa/Cairo:20260113T130000
DTSTAMP:20260422T200048
CREATED:20251230T065244Z
LAST-MODIFIED:20251230T065244Z
UID:4759-1768291200-1768309200@www.alhodaazhar.com
SUMMARY:E.A.L. exam (Pr.4\,5)
DESCRIPTION:
URL:https://www.alhodaazhar.com/event/e-a-l-exam-pr-45/
END:VEVENT
BEGIN:VEVENT
DTSTART;TZID=Africa/Cairo:20260113T080000
DTEND;TZID=Africa/Cairo:20260113T130000
DTSTAMP:20260422T200048
CREATED:20251230T065356Z
LAST-MODIFIED:20251230T065356Z
UID:4761-1768291200-1768309200@www.alhodaazhar.com
SUMMARY:2nd Lang. exam (Pr.3)
DESCRIPTION:
URL:https://www.alhodaazhar.com/event/2nd-lang-exam-pr-3/
END:VEVENT
BEGIN:VEVENT
DTSTART;TZID=Africa/Cairo:20260113T080000
DTEND;TZID=Africa/Cairo:20260113T130000
DTSTAMP:20260422T200048
CREATED:20251230T073540Z
LAST-MODIFIED:20251230T074007Z
UID:4763-1768291200-1768309200@www.alhodaazhar.com
SUMMARY:Fun day (Pr.1\,2)
DESCRIPTION:
URL:https://www.alhodaazhar.com/event/fun-day-pr-12/
END:VEVENT
BEGIN:VEVENT
DTSTART;TZID=Africa/Cairo:20260113T080000
DTEND;TZID=Africa/Cairo:20260114T150000
DTSTAMP:20260422T200048
CREATED:20251030T090214Z
LAST-MODIFIED:20251030T090214Z
UID:4609-1768291200-1768402800@www.alhodaazhar.com
SUMMARY:Activity Week (KG 1 & KG 2)
DESCRIPTION:
URL:https://www.alhodaazhar.com/event/activity-week-kg-1-kg-2/
CATEGORIES:KG
END:VEVENT
BEGIN:VEVENT
DTSTART;TZID=Africa/Cairo:20260114T080000
DTEND;TZID=Africa/Cairo:20260114T130000
DTSTAMP:20260422T200048
CREATED:20251230T074314Z
LAST-MODIFIED:20251230T074314Z
UID:4765-1768377600-1768395600@www.alhodaazhar.com
SUMMARY:2nd Lang. exam (Pr.4)
DESCRIPTION:
URL:https://www.alhodaazhar.com/event/2nd-lang-exam-pr-4/
END:VEVENT
BEGIN:VEVENT
DTSTART;TZID=Africa/Cairo:20260114T080000
DTEND;TZID=Africa/Cairo:20260114T130000
DTSTAMP:20260422T200048
CREATED:20251230T074418Z
LAST-MODIFIED:20260114T102941Z
UID:4767-1768377600-1768395600@www.alhodaazhar.com
SUMMARY:احتفال ختم ربع يس (Pr.4)
DESCRIPTION:  \n 
URL:https://www.alhodaazhar.com/event/%d8%a7%d8%ad%d8%aa%d9%81%d8%a7%d9%84-%d8%ae%d8%aa%d9%85-%d8%b1%d8%a8%d8%b9-%d9%8a%d8%b3-pr-4/
END:VEVENT
BEGIN:VEVENT
DTSTART;TZID=Africa/Cairo:20260114T080000
DTEND;TZID=Africa/Cairo:20260114T130000
DTSTAMP:20260422T200048
CREATED:20251230T074727Z
LAST-MODIFIED:20251230T074727Z
UID:4769-1768377600-1768395600@www.alhodaazhar.com
SUMMARY:Day off (Pr.6)
DESCRIPTION:
URL:https://www.alhodaazhar.com/event/day-off-pr-6/
END:VEVENT
BEGIN:VEVENT
DTSTART;VALUE=DATE:20260115
DTEND;VALUE=DATE:20260116
DTSTAMP:20260422T200048
CREATED:20251030T090313Z
LAST-MODIFIED:20251030T090313Z
UID:4611-1768435200-1768521599@www.alhodaazhar.com
SUMMARY:KG End of term
DESCRIPTION:
URL:https://www.alhodaazhar.com/event/kg-end-of-term/
CATEGORIES:KG
END:VEVENT
BEGIN:VEVENT
DTSTART;TZID=Africa/Cairo:20260115T080000
DTEND;TZID=Africa/Cairo:20260115T130000
DTSTAMP:20260422T200048
CREATED:20251230T074858Z
LAST-MODIFIED:20251230T074858Z
UID:4772-1768464000-1768482000@www.alhodaazhar.com
SUMMARY:First term exam (Pr.6)
DESCRIPTION:
URL:https://www.alhodaazhar.com/event/first-term-exam-pr-6-2/
END:VEVENT
BEGIN:VEVENT
DTSTART;TZID=Africa/Cairo:20260115T080000
DTEND;TZID=Africa/Cairo:20260115T170000
DTSTAMP:20260422T200048
CREATED:20251007T070134Z
LAST-MODIFIED:20251008T074740Z
UID:4298-1768464000-1768496400@www.alhodaazhar.com
SUMMARY:Fun Day(Pr. 1\,2)
DESCRIPTION:Get ready for an exciting Fun Day filled with laughter and joy! 🎉😄Students will enjoy games\, activities\, and unforgettable moments with their friends and teachers.
URL:https://www.alhodaazhar.com/event/fun-daypr-12/
END:VEVENT
BEGIN:VEVENT
DTSTART;VALUE=DATE:20260125
DTEND;VALUE=DATE:20260126
DTSTAMP:20260422T200048
CREATED:20251008T075407Z
LAST-MODIFIED:20251008T083919Z
UID:4301-1769299200-1769385599@www.alhodaazhar.com
SUMMARY:Mid-Year Holiday
DESCRIPTION:We are happy to announce the start of the Mid-Year Holiday! 🌞🎉Wishing all our students a relaxing and enjoyable break before the new term begins.
URL:https://www.alhodaazhar.com/event/mid-year-holiday/
CATEGORIES:Holiday
END:VEVENT
BEGIN:VEVENT
DTSTART;VALUE=DATE:20260125
DTEND;VALUE=DATE:20260126
DTSTAMP:20260422T200048
CREATED:20251030T090401Z
LAST-MODIFIED:20251030T090401Z
UID:4613-1769299200-1769385599@www.alhodaazhar.com
SUMMARY:KG Vacation
DESCRIPTION:
URL:https://www.alhodaazhar.com/event/kg-vacation-3/
CATEGORIES:KG
END:VEVENT
BEGIN:VEVENT
DTSTART;VALUE=DATE:20260126
DTEND;VALUE=DATE:20260208
DTSTAMP:20260422T200048
CREATED:20251030T090632Z
LAST-MODIFIED:20251102T064514Z
UID:4615-1769385600-1770508799@www.alhodaazhar.com
SUMMARY:KG Mid-Year Vacation
DESCRIPTION:
URL:https://www.alhodaazhar.com/event/kg-mid-term-vacation/
CATEGORIES:KG
END:VEVENT
END:VCALENDAR