BEGIN:VCALENDAR
VERSION:2.0
PRODID:-//Alhoda Azhar - ECPv6.15.20//NONSGML v1.0//EN
CALSCALE:GREGORIAN
METHOD:PUBLISH
X-ORIGINAL-URL:https://www.alhodaazhar.com
X-WR-CALDESC:Events for Alhoda Azhar
REFRESH-INTERVAL;VALUE=DURATION:PT1H
X-Robots-Tag:noindex
X-PUBLISHED-TTL:PT1H
BEGIN:VTIMEZONE
TZID:Africa/Cairo
BEGIN:DAYLIGHT
TZOFFSETFROM:+0200
TZOFFSETTO:+0300
TZNAME:EEST
DTSTART:20240425T220000
END:DAYLIGHT
BEGIN:STANDARD
TZOFFSETFROM:+0300
TZOFFSETTO:+0200
TZNAME:EET
DTSTART:20241031T210000
END:STANDARD
BEGIN:DAYLIGHT
TZOFFSETFROM:+0200
TZOFFSETTO:+0300
TZNAME:EEST
DTSTART:20250424T220000
END:DAYLIGHT
BEGIN:STANDARD
TZOFFSETFROM:+0300
TZOFFSETTO:+0200
TZNAME:EET
DTSTART:20251030T210000
END:STANDARD
BEGIN:DAYLIGHT
TZOFFSETFROM:+0200
TZOFFSETTO:+0300
TZNAME:EEST
DTSTART:20260423T220000
END:DAYLIGHT
BEGIN:STANDARD
TZOFFSETFROM:+0300
TZOFFSETTO:+0200
TZNAME:EET
DTSTART:20261029T210000
END:STANDARD
END:VTIMEZONE
BEGIN:VEVENT
DTSTART;TZID=Africa/Cairo:20250901T080000
DTEND;TZID=Africa/Cairo:20250903T143000
DTSTAMP:20260423T034013
CREATED:20251029T084306Z
LAST-MODIFIED:20251029T084355Z
UID:4516-1756713600-1756909800@www.alhodaazhar.com
SUMMARY:تسليم كتب واستلام أدوات (Pr. 1\,4\,5\,6)
DESCRIPTION:تسليم كتب واستلام أدوات (Pr. 1\,4\,5\,6)
URL:https://www.alhodaazhar.com/event/%d8%aa%d8%b3%d9%84%d9%8a%d9%85-%d9%83%d8%aa%d8%a8-%d9%88%d8%a7%d8%b3%d8%aa%d9%84%d8%a7%d9%85-%d8%a3%d8%af%d9%88%d8%a7%d8%aa-pr-1456/
END:VEVENT
BEGIN:VEVENT
DTSTART;TZID=Africa/Cairo:20250903T100000
DTEND;TZID=Africa/Cairo:20250903T233000
DTSTAMP:20260423T034013
CREATED:20250821T080137Z
LAST-MODIFIED:20250930T063305Z
UID:3817-1756893600-1756942200@www.alhodaazhar.com
SUMMARY:Teachers celebration
DESCRIPTION:  \n  \n “Welcome back\, our dear teachers! Your dedication lights the path of knowledge and inspires our students every day.”
URL:https://www.alhodaazhar.com/event/teachers-celebration/
CATEGORIES:Welcome back
END:VEVENT
BEGIN:VEVENT
DTSTART;VALUE=DATE:20250904
DTEND;VALUE=DATE:20250905
DTSTAMP:20260423T034013
CREATED:20251007T065413Z
LAST-MODIFIED:20251029T114332Z
UID:4294-1756944000-1757030399@www.alhodaazhar.com
SUMMARY:(KG)إجازة المولد النبوي الشريف
DESCRIPTION:كل عام وانتم بخير
URL:https://www.alhodaazhar.com/event/%d8%a7%d8%ad%d8%aa%d9%81%d8%a7%d9%84-%d8%ae%d8%aa%d9%85-%d8%b1%d8%a8%d8%b9-%d9%8a%d8%b3/
CATEGORIES:KG
END:VEVENT
BEGIN:VEVENT
DTSTART;VALUE=DATE:20250904
DTEND;VALUE=DATE:20250905
DTSTAMP:20260423T034013
CREATED:20251029T083722Z
LAST-MODIFIED:20251029T083919Z
UID:4513-1756944000-1757030399@www.alhodaazhar.com
SUMMARY:إجازة المولد النبوي الشريف
DESCRIPTION:  \n \n  تُعلن المدرسة عن إجازة رسمية يوم المولد النبوي الشريف، احتفاءً بذكرى مولد خير الأنام صلى الله عليه وسلم \nوكل عام وأنتم بخير
URL:https://www.alhodaazhar.com/event/%d8%a5%d8%ac%d8%a7%d8%b2%d8%a9-%d8%a7%d9%84%d9%85%d9%88%d9%84%d8%af-%d8%a7%d9%84%d9%86%d8%a8%d9%88%d9%8a-%d8%a7%d9%84%d8%b4%d8%b1%d9%8a%d9%81/
END:VEVENT
BEGIN:VEVENT
DTSTART;TZID=Africa/Cairo:20250907T080000
DTEND;TZID=Africa/Cairo:20250907T143000
DTSTAMP:20260423T034013
CREATED:20251029T084835Z
LAST-MODIFIED:20251029T084835Z
UID:4519-1757232000-1757255400@www.alhodaazhar.com
SUMMARY:Online Orientation (Pr. 1)
DESCRIPTION:Online Orientation (Pr. 1) \nLet’s start this wonderful journey together—learn\, connect\, and get ready for a great school year ahead!
URL:https://www.alhodaazhar.com/event/online-orientation-pr-1/
END:VEVENT
BEGIN:VEVENT
DTSTART;TZID=Africa/Cairo:20250908T080000
DTEND;TZID=Africa/Cairo:20250908T143000
DTSTAMP:20260423T034013
CREATED:20251029T085431Z
LAST-MODIFIED:20251029T085431Z
UID:4523-1757318400-1757341800@www.alhodaazhar.com
SUMMARY:Online Orientation (Pr. 3-6)
DESCRIPTION:Join us for our exciting online orientation for PR 3\,4\,5\,6\, where new students and parents will get to know our school community and programs!
URL:https://www.alhodaazhar.com/event/online-orientation-pr-3-6/
END:VEVENT
BEGIN:VEVENT
DTSTART;TZID=Africa/Cairo:20250908T080000
DTEND;TZID=Africa/Cairo:20250908T143000
DTSTAMP:20260423T034013
CREATED:20251030T063111Z
LAST-MODIFIED:20251030T063355Z
UID:4563-1757318400-1757341800@www.alhodaazhar.com
SUMMARY:Ori. KG1 Theater
DESCRIPTION:Dear Parents\, we are pleased to invite you to the KG1 Orientation Day taking place in the school theater. Join us to learn more about your child’s exciting journey ahead
URL:https://www.alhodaazhar.com/event/ori-kg1-theater/
CATEGORIES:KG
END:VEVENT
BEGIN:VEVENT
DTSTART;TZID=Africa/Cairo:20250909T080000
DTEND;TZID=Africa/Cairo:20250909T143000
DTSTAMP:20260423T034013
CREATED:20251029T085708Z
LAST-MODIFIED:20251029T085708Z
UID:4525-1757404800-1757428200@www.alhodaazhar.com
SUMMARY:New Comers Welcome Day
DESCRIPTION:Welcome back\, inspiring New Comers! Your passion and dedication light the path to another year of learning and growth.
URL:https://www.alhodaazhar.com/event/new-comers-welcome-day/
END:VEVENT
BEGIN:VEVENT
DTSTART;TZID=Africa/Cairo:20250910T080000
DTEND;TZID=Africa/Cairo:20250910T143000
DTSTAMP:20260423T034013
CREATED:20251029T090354Z
LAST-MODIFIED:20251029T090411Z
UID:4527-1757491200-1757514600@www.alhodaazhar.com
SUMMARY:Welcome Day (Pr. 4\,5)
DESCRIPTION:Welcome back\, inspiring Students! Your passion and dedication light the path to another year of learning and growth.
URL:https://www.alhodaazhar.com/event/welcome-day-pr-45/
CATEGORIES:Welcome back
END:VEVENT
BEGIN:VEVENT
DTSTART;TZID=Africa/Cairo:20250911T080000
DTEND;TZID=Africa/Cairo:20250911T143000
DTSTAMP:20260423T034013
CREATED:20251029T090654Z
LAST-MODIFIED:20251029T091104Z
UID:4529-1757577600-1757601000@www.alhodaazhar.com
SUMMARY:Welcome Day (Pr. 3\,6)
DESCRIPTION:Welcome back\, inspiring students! Your passion and dedication light the path to another year of learning and growth.
URL:https://www.alhodaazhar.com/event/welcome-day-pr-36/
CATEGORIES:Welcome back
END:VEVENT
BEGIN:VEVENT
DTSTART;TZID=Africa/Cairo:20250911T080000
DTEND;TZID=Africa/Cairo:20250911T143000
DTSTAMP:20260423T034013
CREATED:20251030T063711Z
LAST-MODIFIED:20251030T063711Z
UID:4566-1757577600-1757601000@www.alhodaazhar.com
SUMMARY:Ori. KG2 Online
DESCRIPTION:Dear Parents\, we are pleased to invite you to the KG1 Orientation Day\, which will be held online. Join us virtually to learn more about your child’s exciting journey ahead
URL:https://www.alhodaazhar.com/event/ori-kg2-online/
CATEGORIES:KG
END:VEVENT
BEGIN:VEVENT
DTSTART;TZID=Africa/Cairo:20250915T080000
DTEND;TZID=Africa/Cairo:20250915T143000
DTSTAMP:20260423T034013
CREATED:20251029T091306Z
LAST-MODIFIED:20251029T091306Z
UID:4532-1757923200-1757946600@www.alhodaazhar.com
SUMMARY:Welcome Day (Pr. 2)
DESCRIPTION:Welcome back\, inspiring Pr. 2 students! Your passion and dedication light the path to another year of learning and growth.
URL:https://www.alhodaazhar.com/event/welcome-day-pr-2/
CATEGORIES:Welcome back
END:VEVENT
BEGIN:VEVENT
DTSTART;TZID=Africa/Cairo:20250916T080000
DTEND;TZID=Africa/Cairo:20250916T143000
DTSTAMP:20260423T034013
CREATED:20251029T092000Z
LAST-MODIFIED:20251029T092116Z
UID:4534-1758009600-1758033000@www.alhodaazhar.com
SUMMARY:Welcome Day (Pr. 1)
DESCRIPTION:Welcome back\, inspiring Pr. 1 students! Your passion and dedication light the path to another year of learning and growth.
URL:https://www.alhodaazhar.com/event/welcome-day-pr-1/
CATEGORIES:Welcome back
END:VEVENT
BEGIN:VEVENT
DTSTART;TZID=Africa/Cairo:20250916T080000
DTEND;TZID=Africa/Cairo:20250916T143000
DTSTAMP:20260423T034013
CREATED:20251030T064243Z
LAST-MODIFIED:20251030T064243Z
UID:4568-1758009600-1758033000@www.alhodaazhar.com
SUMMARY:استلام خامات وتسليم الكتب KG1
DESCRIPTION:نحيطكم علمًا بأنه سيتم استلام الخامات وتسليم الكتب الخاصة بطلاب KG1
URL:https://www.alhodaazhar.com/event/%d8%a7%d8%b3%d8%aa%d9%84%d8%a7%d9%85-%d8%ae%d8%a7%d9%85%d8%a7%d8%aa-%d9%88%d8%aa%d8%b3%d9%84%d9%8a%d9%85-%d8%a7%d9%84%d9%83%d8%aa%d8%a8-kg1/
CATEGORIES:KG
END:VEVENT
BEGIN:VEVENT
DTSTART;TZID=Africa/Cairo:20250917T080000
DTEND;TZID=Africa/Cairo:20250917T143000
DTSTAMP:20260423T034013
CREATED:20251030T064530Z
LAST-MODIFIED:20251030T065104Z
UID:4570-1758096000-1758119400@www.alhodaazhar.com
SUMMARY:استلام الخامات وتسليم الكتب KG2
DESCRIPTION:نحيطكم علمًا بأنه سيتم استلام الخامات وتسليم الكتب الخاصة بطلاب KG2
URL:https://www.alhodaazhar.com/event/%d8%a7%d8%b3%d8%aa%d9%84%d8%a7%d9%85-%d8%a7%d9%84%d8%ae%d8%a7%d9%85%d8%a7%d8%aa-%d9%88%d8%aa%d8%b3%d9%84%d9%8a%d9%85-%d8%a7%d9%84%d9%83%d8%aa%d8%a8-kg2/
CATEGORIES:KG
END:VEVENT
BEGIN:VEVENT
DTSTART;TZID=Africa/Cairo:20250922T080000
DTEND;TZID=Africa/Cairo:20250922T120000
DTSTAMP:20260423T034013
CREATED:20251030T065301Z
LAST-MODIFIED:20251030T065538Z
UID:4573-1758528000-1758542400@www.alhodaazhar.com
SUMMARY:KG1(4 Classes)
DESCRIPTION:
URL:https://www.alhodaazhar.com/event/kg14-classes/
CATEGORIES:KG
END:VEVENT
BEGIN:VEVENT
DTSTART;TZID=Africa/Cairo:20250923T080000
DTEND;TZID=Africa/Cairo:20250923T120000
DTSTAMP:20260423T034013
CREATED:20251030T065706Z
LAST-MODIFIED:20251030T065706Z
UID:4576-1758614400-1758628800@www.alhodaazhar.com
SUMMARY:KG1(4 Classes)
DESCRIPTION:
URL:https://www.alhodaazhar.com/event/kg14-classes-2/
CATEGORIES:KG
END:VEVENT
BEGIN:VEVENT
DTSTART;TZID=Africa/Cairo:20250925T080000
DTEND;TZID=Africa/Cairo:20250925T120000
DTSTAMP:20260423T034014
CREATED:20251030T065915Z
LAST-MODIFIED:20251030T065938Z
UID:4578-1758787200-1758801600@www.alhodaazhar.com
SUMMARY:KG 2
DESCRIPTION:
URL:https://www.alhodaazhar.com/event/kg-2/
CATEGORIES:KG
END:VEVENT
BEGIN:VEVENT
DTSTART;TZID=Africa/Cairo:20250928T080000
DTEND;TZID=Africa/Cairo:20250928T143000
DTSTAMP:20260423T034014
CREATED:20251029T093219Z
LAST-MODIFIED:20251029T093219Z
UID:4538-1759046400-1759069800@www.alhodaazhar.com
SUMMARY:Start of Reading Campaign
DESCRIPTION:We’re excited to launch our School Reading Campaign—let’s spark a love for books and imagination in every student!
URL:https://www.alhodaazhar.com/event/start-of-reading-campaign/
CATEGORIES:education
END:VEVENT
END:VCALENDAR