BEGIN:VCALENDAR
VERSION:2.0
PRODID:-//Alhoda Azhar - ECPv6.15.20//NONSGML v1.0//EN
CALSCALE:GREGORIAN
METHOD:PUBLISH
X-WR-CALNAME:Alhoda Azhar
X-ORIGINAL-URL:https://www.alhodaazhar.com
X-WR-CALDESC:Events for Alhoda Azhar
REFRESH-INTERVAL;VALUE=DURATION:PT1H
X-Robots-Tag:noindex
X-PUBLISHED-TTL:PT1H
BEGIN:VTIMEZONE
TZID:Africa/Cairo
BEGIN:DAYLIGHT
TZOFFSETFROM:+0200
TZOFFSETTO:+0300
TZNAME:EEST
DTSTART:20250424T220000
END:DAYLIGHT
BEGIN:STANDARD
TZOFFSETFROM:+0300
TZOFFSETTO:+0200
TZNAME:EET
DTSTART:20251030T210000
END:STANDARD
BEGIN:DAYLIGHT
TZOFFSETFROM:+0200
TZOFFSETTO:+0300
TZNAME:EEST
DTSTART:20260423T220000
END:DAYLIGHT
BEGIN:STANDARD
TZOFFSETFROM:+0300
TZOFFSETTO:+0200
TZNAME:EET
DTSTART:20261029T210000
END:STANDARD
BEGIN:DAYLIGHT
TZOFFSETFROM:+0200
TZOFFSETTO:+0300
TZNAME:EEST
DTSTART:20270429T220000
END:DAYLIGHT
BEGIN:STANDARD
TZOFFSETFROM:+0300
TZOFFSETTO:+0200
TZNAME:EET
DTSTART:20271028T210000
END:STANDARD
END:VTIMEZONE
BEGIN:VEVENT
DTSTART;TZID=Africa/Cairo:20260426T080000
DTEND;TZID=Africa/Cairo:20260430T150000
DTSTAMP:20260424T114151
CREATED:20260310T063047Z
LAST-MODIFIED:20260310T063047Z
UID:4883-1777190400-1777561200@www.alhodaazhar.com
SUMMARY:Trips Week (Pr. 1\,2)
DESCRIPTION:
URL:https://www.alhodaazhar.com/event/trips-week-pr-12-2/
END:VEVENT
BEGIN:VEVENT
DTSTART;TZID=Africa/Cairo:20260503T080000
DTEND;TZID=Africa/Cairo:20260503T150000
DTSTAMP:20260424T114151
CREATED:20260310T063251Z
LAST-MODIFIED:20260310T063251Z
UID:4885-1777795200-1777820400@www.alhodaazhar.com
SUMMARY:Assessment (KG)
DESCRIPTION:
URL:https://www.alhodaazhar.com/event/assessment-kg/
CATEGORIES:KG
END:VEVENT
BEGIN:VEVENT
DTSTART;TZID=Africa/Cairo:20260504T080000
DTEND;TZID=Africa/Cairo:20260504T150000
DTSTAMP:20260424T114151
CREATED:20260310T063508Z
LAST-MODIFIED:20260310T063508Z
UID:4887-1777881600-1777906800@www.alhodaazhar.com
SUMMARY:Final Exam (Pr. 3-5)
DESCRIPTION:
URL:https://www.alhodaazhar.com/event/final-exam-pr-3-5/
END:VEVENT
BEGIN:VEVENT
DTSTART;TZID=Africa/Cairo:20260510T080000
DTEND;TZID=Africa/Cairo:20260510T150000
DTSTAMP:20260424T114151
CREATED:20260310T065310Z
LAST-MODIFIED:20260310T065310Z
UID:4889-1778400000-1778425200@www.alhodaazhar.com
SUMMARY:Final Assessment (Pr.1\,2)
DESCRIPTION:
URL:https://www.alhodaazhar.com/event/final-assessment-pr-12/
END:VEVENT
BEGIN:VEVENT
DTSTART;TZID=Africa/Cairo:20260511T080000
DTEND;TZID=Africa/Cairo:20260512T150000
DTSTAMP:20260424T114151
CREATED:20260310T065640Z
LAST-MODIFIED:20260310T065640Z
UID:4891-1778486400-1778598000@www.alhodaazhar.com
SUMMARY:Family Day (KG1)
DESCRIPTION:
URL:https://www.alhodaazhar.com/event/family-day-kg1/
CATEGORIES:KG
END:VEVENT
BEGIN:VEVENT
DTSTART;TZID=Africa/Cairo:20260513T080000
DTEND;TZID=Africa/Cairo:20260513T150000
DTSTAMP:20260424T114151
CREATED:20260310T070007Z
LAST-MODIFIED:20260310T070007Z
UID:4894-1778659200-1778684400@www.alhodaazhar.com
SUMMARY:Hajj (KG2)
DESCRIPTION:
URL:https://www.alhodaazhar.com/event/hajj-kg2/
CATEGORIES:KG
END:VEVENT
BEGIN:VEVENT
DTSTART;VALUE=DATE:20260514
DTEND;VALUE=DATE:20260515
DTSTAMP:20260424T114151
CREATED:20260310T070452Z
LAST-MODIFIED:20260310T070452Z
UID:4897-1778716800-1778803199@www.alhodaazhar.com
SUMMARY:(KG) بداية إجازة صفوف النقل وأطفال
DESCRIPTION:
URL:https://www.alhodaazhar.com/event/kg-%d8%a8%d8%af%d8%a7%d9%8a%d8%a9-%d8%a5%d8%ac%d8%a7%d8%b2%d8%a9-%d8%b5%d9%81%d9%88%d9%81-%d8%a7%d9%84%d9%86%d9%82%d9%84-%d9%88%d8%a3%d8%b7%d9%81%d8%a7%d9%84/
END:VEVENT
BEGIN:VEVENT
DTSTART;VALUE=DATE:20260515
DTEND;VALUE=DATE:20260516
DTSTAMP:20260424T114151
CREATED:20260310T070720Z
LAST-MODIFIED:20260310T070720Z
UID:4899-1778803200-1778889599@www.alhodaazhar.com
SUMMARY:Family Day (Prim)
DESCRIPTION:
URL:https://www.alhodaazhar.com/event/family-day-prim/
END:VEVENT
BEGIN:VEVENT
DTSTART;TZID=Africa/Cairo:20260516T080000
DTEND;TZID=Africa/Cairo:20260516T150000
DTSTAMP:20260424T114151
CREATED:20260310T070910Z
LAST-MODIFIED:20260310T071036Z
UID:4901-1778918400-1778943600@www.alhodaazhar.com
SUMMARY:Final Exam (Pr. 6)
DESCRIPTION:
URL:https://www.alhodaazhar.com/event/final-exam-pr-6/
END:VEVENT
BEGIN:VEVENT
DTSTART;TZID=Africa/Cairo:20260517T080000
DTEND;TZID=Africa/Cairo:20260517T150000
DTSTAMP:20260424T114151
CREATED:20260310T071406Z
LAST-MODIFIED:20260310T071406Z
UID:4903-1779004800-1779030000@www.alhodaazhar.com
SUMMARY:(KG) عودة الأطفال المشتركين في الحفل
DESCRIPTION:
URL:https://www.alhodaazhar.com/event/kg-%d8%b9%d9%88%d8%af%d8%a9-%d8%a7%d9%84%d8%a3%d8%b7%d9%81%d8%a7%d9%84-%d8%a7%d9%84%d9%85%d8%b4%d8%aa%d8%b1%d9%83%d9%8a%d9%86-%d9%81%d9%8a-%d8%a7%d9%84%d8%ad%d9%81%d9%84/
END:VEVENT
BEGIN:VEVENT
DTSTART;VALUE=DATE:20260524
DTEND;VALUE=DATE:20260526
DTSTAMP:20260424T114151
CREATED:20260310T071704Z
LAST-MODIFIED:20260310T071704Z
UID:4905-1779580800-1779753599@www.alhodaazhar.com
SUMMARY:Days Off (Prim.)
DESCRIPTION:
URL:https://www.alhodaazhar.com/event/days-off-prim/
END:VEVENT
BEGIN:VEVENT
DTSTART;VALUE=DATE:20260526
DTEND;VALUE=DATE:20260531
DTSTAMP:20260424T114151
CREATED:20260310T071919Z
LAST-MODIFIED:20260310T071919Z
UID:4907-1779753600-1780185599@www.alhodaazhar.com
SUMMARY:إجازة عيد الأضحي
DESCRIPTION:
URL:https://www.alhodaazhar.com/event/%d8%a5%d8%ac%d8%a7%d8%b2%d8%a9-%d8%b9%d9%8a%d8%af-%d8%a7%d9%84%d8%a3%d8%b6%d8%ad%d9%8a/
END:VEVENT
BEGIN:VEVENT
DTSTART;TZID=Africa/Cairo:20260602T080000
DTEND;TZID=Africa/Cairo:20260602T150000
DTSTAMP:20260424T114151
CREATED:20260310T080347Z
LAST-MODIFIED:20260310T080347Z
UID:4910-1780387200-1780412400@www.alhodaazhar.com
SUMMARY:Rehearsal 1 (KG)
DESCRIPTION:
URL:https://www.alhodaazhar.com/event/rehearsal-1-kg/
CATEGORIES:KG
END:VEVENT
BEGIN:VEVENT
DTSTART;TZID=Africa/Cairo:20260604T080000
DTEND;TZID=Africa/Cairo:20260604T150000
DTSTAMP:20260424T114151
CREATED:20260310T080431Z
LAST-MODIFIED:20260310T082034Z
UID:4912-1780560000-1780585200@www.alhodaazhar.com
SUMMARY:Rehearsal 2 (KG)
DESCRIPTION:
URL:https://www.alhodaazhar.com/event/rehearsal-2-kg/
CATEGORIES:KG
END:VEVENT
BEGIN:VEVENT
DTSTART;TZID=Africa/Cairo:20260607T080000
DTEND;TZID=Africa/Cairo:20260607T150000
DTSTAMP:20260424T114151
CREATED:20260310T080527Z
LAST-MODIFIED:20260310T080527Z
UID:4914-1780819200-1780844400@www.alhodaazhar.com
SUMMARY:Rehearsal 3 (KG)
DESCRIPTION:
URL:https://www.alhodaazhar.com/event/rehearsal-3-kg/
CATEGORIES:KG
END:VEVENT
BEGIN:VEVENT
DTSTART;TZID=Africa/Cairo:20260609T080000
DTEND;TZID=Africa/Cairo:20260609T150000
DTSTAMP:20260424T114151
CREATED:20260310T080919Z
LAST-MODIFIED:20260310T080919Z
UID:4917-1780992000-1781017200@www.alhodaazhar.com
SUMMARY:Graduation Ceremony (KG 2)
DESCRIPTION:
URL:https://www.alhodaazhar.com/event/graduation-ceremony-kg-2/
CATEGORIES:KG
END:VEVENT
BEGIN:VEVENT
DTSTART;TZID=Africa/Cairo:20260610T080000
DTEND;TZID=Africa/Cairo:20260610T150000
DTSTAMP:20260424T114151
CREATED:20260310T081157Z
LAST-MODIFIED:20260310T081157Z
UID:4920-1781078400-1781103600@www.alhodaazhar.com
SUMMARY:Pr. 6 Graduation Ceremony Rehearsal
DESCRIPTION:
URL:https://www.alhodaazhar.com/event/pr-6-graduation-ceremony-rehearsal/
END:VEVENT
BEGIN:VEVENT
DTSTART;TZID=Africa/Cairo:20260611T080000
DTEND;TZID=Africa/Cairo:20260611T150000
DTSTAMP:20260424T114151
CREATED:20260310T081258Z
LAST-MODIFIED:20260310T081258Z
UID:4923-1781164800-1781190000@www.alhodaazhar.com
SUMMARY:Pr. 6 Graduation Ceremony
DESCRIPTION:
URL:https://www.alhodaazhar.com/event/pr-6-graduation-ceremony/
END:VEVENT
BEGIN:VEVENT
DTSTART;VALUE=DATE:20260618
DTEND;VALUE=DATE:20260619
DTSTAMP:20260424T114151
CREATED:20260310T081528Z
LAST-MODIFIED:20260310T081528Z
UID:4925-1781740800-1781827199@www.alhodaazhar.com
SUMMARY:إجازة رأس السنة الهجرية
DESCRIPTION:
URL:https://www.alhodaazhar.com/event/%d8%a5%d8%ac%d8%a7%d8%b2%d8%a9-%d8%b1%d8%a3%d8%b3-%d8%a7%d9%84%d8%b3%d9%86%d8%a9-%d8%a7%d9%84%d9%87%d8%ac%d8%b1%d9%8a%d8%a9/
END:VEVENT
BEGIN:VEVENT
DTSTART;VALUE=DATE:20260630
DTEND;VALUE=DATE:20260701
DTSTAMP:20260424T114151
CREATED:20260310T081641Z
LAST-MODIFIED:20260310T081641Z
UID:4928-1782777600-1782863999@www.alhodaazhar.com
SUMMARY:ثورة 30 يونيو
DESCRIPTION:
URL:https://www.alhodaazhar.com/event/%d8%ab%d9%88%d8%b1%d8%a9-30-%d9%8a%d9%88%d9%86%d9%8a%d9%88/
END:VEVENT
BEGIN:VEVENT
DTSTART;VALUE=DATE:20260705
DTEND;VALUE=DATE:20260706
DTSTAMP:20260424T114151
CREATED:20260310T081906Z
LAST-MODIFIED:20260310T081906Z
UID:4930-1783209600-1783295999@www.alhodaazhar.com
SUMMARY:بداية الإجازة السنوية للعاملين
DESCRIPTION:
URL:https://www.alhodaazhar.com/event/%d8%a8%d8%af%d8%a7%d9%8a%d8%a9-%d8%a7%d9%84%d8%a5%d8%ac%d8%a7%d8%b2%d8%a9-%d8%a7%d9%84%d8%b3%d9%86%d9%88%d9%8a%d8%a9-%d9%84%d9%84%d8%b9%d8%a7%d9%85%d9%84%d9%8a%d9%86/
END:VEVENT
END:VCALENDAR