BEGIN:VCALENDAR
VERSION:2.0
PRODID:-//Alhoda Azhar - ECPv6.15.20//NONSGML v1.0//EN
CALSCALE:GREGORIAN
METHOD:PUBLISH
X-WR-CALNAME:Alhoda Azhar
X-ORIGINAL-URL:https://www.alhodaazhar.com
X-WR-CALDESC:Events for Alhoda Azhar
REFRESH-INTERVAL;VALUE=DURATION:PT1H
X-Robots-Tag:noindex
X-PUBLISHED-TTL:PT1H
BEGIN:VTIMEZONE
TZID:Africa/Cairo
BEGIN:DAYLIGHT
TZOFFSETFROM:+0200
TZOFFSETTO:+0300
TZNAME:EEST
DTSTART:20250424T220000
END:DAYLIGHT
BEGIN:STANDARD
TZOFFSETFROM:+0300
TZOFFSETTO:+0200
TZNAME:EET
DTSTART:20251030T210000
END:STANDARD
BEGIN:DAYLIGHT
TZOFFSETFROM:+0200
TZOFFSETTO:+0300
TZNAME:EEST
DTSTART:20260423T220000
END:DAYLIGHT
BEGIN:STANDARD
TZOFFSETFROM:+0300
TZOFFSETTO:+0200
TZNAME:EET
DTSTART:20261029T210000
END:STANDARD
BEGIN:DAYLIGHT
TZOFFSETFROM:+0200
TZOFFSETTO:+0300
TZNAME:EEST
DTSTART:20270429T220000
END:DAYLIGHT
BEGIN:STANDARD
TZOFFSETFROM:+0300
TZOFFSETTO:+0200
TZNAME:EET
DTSTART:20271028T210000
END:STANDARD
END:VTIMEZONE
BEGIN:VEVENT
DTSTART;TZID=Africa/Cairo:20260113T080000
DTEND;TZID=Africa/Cairo:20260114T150000
DTSTAMP:20260422T213112
CREATED:20251030T090214Z
LAST-MODIFIED:20251030T090214Z
UID:4609-1768291200-1768402800@www.alhodaazhar.com
SUMMARY:Activity Week (KG 1 & KG 2)
DESCRIPTION:
URL:https://www.alhodaazhar.com/event/activity-week-kg-1-kg-2/
CATEGORIES:KG
END:VEVENT
BEGIN:VEVENT
DTSTART;TZID=Africa/Cairo:20260114T080000
DTEND;TZID=Africa/Cairo:20260114T130000
DTSTAMP:20260422T213112
CREATED:20251230T074314Z
LAST-MODIFIED:20251230T074314Z
UID:4765-1768377600-1768395600@www.alhodaazhar.com
SUMMARY:2nd Lang. exam (Pr.4)
DESCRIPTION:
URL:https://www.alhodaazhar.com/event/2nd-lang-exam-pr-4/
END:VEVENT
BEGIN:VEVENT
DTSTART;TZID=Africa/Cairo:20260114T080000
DTEND;TZID=Africa/Cairo:20260114T130000
DTSTAMP:20260422T213112
CREATED:20251230T074418Z
LAST-MODIFIED:20260114T102941Z
UID:4767-1768377600-1768395600@www.alhodaazhar.com
SUMMARY:احتفال ختم ربع يس (Pr.4)
DESCRIPTION:  \n 
URL:https://www.alhodaazhar.com/event/%d8%a7%d8%ad%d8%aa%d9%81%d8%a7%d9%84-%d8%ae%d8%aa%d9%85-%d8%b1%d8%a8%d8%b9-%d9%8a%d8%b3-pr-4/
END:VEVENT
BEGIN:VEVENT
DTSTART;TZID=Africa/Cairo:20260114T080000
DTEND;TZID=Africa/Cairo:20260114T130000
DTSTAMP:20260422T213112
CREATED:20251230T074727Z
LAST-MODIFIED:20251230T074727Z
UID:4769-1768377600-1768395600@www.alhodaazhar.com
SUMMARY:Day off (Pr.6)
DESCRIPTION:
URL:https://www.alhodaazhar.com/event/day-off-pr-6/
END:VEVENT
END:VCALENDAR