BEGIN:VCALENDAR
VERSION:2.0
PRODID:-//Alhoda Azhar - ECPv6.15.20//NONSGML v1.0//EN
CALSCALE:GREGORIAN
METHOD:PUBLISH
X-WR-CALNAME:Alhoda Azhar
X-ORIGINAL-URL:https://www.alhodaazhar.com
X-WR-CALDESC:Events for Alhoda Azhar
REFRESH-INTERVAL;VALUE=DURATION:PT1H
X-Robots-Tag:noindex
X-PUBLISHED-TTL:PT1H
BEGIN:VTIMEZONE
TZID:Africa/Cairo
BEGIN:DAYLIGHT
TZOFFSETFROM:+0200
TZOFFSETTO:+0300
TZNAME:EEST
DTSTART:20250424T220000
END:DAYLIGHT
BEGIN:STANDARD
TZOFFSETFROM:+0300
TZOFFSETTO:+0200
TZNAME:EET
DTSTART:20251030T210000
END:STANDARD
BEGIN:DAYLIGHT
TZOFFSETFROM:+0200
TZOFFSETTO:+0300
TZNAME:EEST
DTSTART:20260423T220000
END:DAYLIGHT
BEGIN:STANDARD
TZOFFSETFROM:+0300
TZOFFSETTO:+0200
TZNAME:EET
DTSTART:20261029T210000
END:STANDARD
BEGIN:DAYLIGHT
TZOFFSETFROM:+0200
TZOFFSETTO:+0300
TZNAME:EEST
DTSTART:20270429T220000
END:DAYLIGHT
BEGIN:STANDARD
TZOFFSETFROM:+0300
TZOFFSETTO:+0200
TZNAME:EET
DTSTART:20271028T210000
END:STANDARD
END:VTIMEZONE
BEGIN:VEVENT
DTSTART;TZID=Africa/Cairo:20260112T080000
DTEND;TZID=Africa/Cairo:20260112T130000
DTSTAMP:20260422T213119
CREATED:20251230T064856Z
LAST-MODIFIED:20251230T064856Z
UID:4755-1768204800-1768222800@www.alhodaazhar.com
SUMMARY:E.A.L. exam (Pr.3)
DESCRIPTION:We would like to announce that (Pr.3) E.A.L. exam  will be held .  \n✏️📘Students are encouraged to review their lessons carefully and do their best to achieve great results.
URL:https://www.alhodaazhar.com/event/e-a-l-exam-pr-3/
END:VEVENT
BEGIN:VEVENT
DTSTART;TZID=Africa/Cairo:20260112T080000
DTEND;TZID=Africa/Cairo:20260112T130000
DTSTAMP:20260422T213119
CREATED:20251230T065124Z
LAST-MODIFIED:20251230T065124Z
UID:4757-1768204800-1768222800@www.alhodaazhar.com
SUMMARY:2nd Lang. exam (Pr.5)
DESCRIPTION:
URL:https://www.alhodaazhar.com/event/2nd-lang-exam-pr-5/
END:VEVENT
BEGIN:VEVENT
DTSTART;TZID=Africa/Cairo:20260112T080000
DTEND;TZID=Africa/Cairo:20260112T143000
DTSTAMP:20260422T213119
CREATED:20251007T065836Z
LAST-MODIFIED:20251029T104551Z
UID:4296-1768204800-1768228200@www.alhodaazhar.com
SUMMARY:First Term Exam (pr.6)
DESCRIPTION:We would like to announce that the First Term Exams will start . 📝🎯Students are encouraged to study well and do their best to achieve excellent results.
URL:https://www.alhodaazhar.com/event/first-term-exam-pr-6/
CATEGORIES:Exams
END:VEVENT
BEGIN:VEVENT
DTSTART;TZID=Africa/Cairo:20260112T080000
DTEND;TZID=Africa/Cairo:20260112T150000
DTSTAMP:20260422T213119
CREATED:20251030T090049Z
LAST-MODIFIED:20251030T090049Z
UID:4607-1768204800-1768230000@www.alhodaazhar.com
SUMMARY:Assembly (KG 1 & KG 2)
DESCRIPTION:
URL:https://www.alhodaazhar.com/event/assembly-kg-1-kg-2/
CATEGORIES:KG
END:VEVENT
END:VCALENDAR