BEGIN:VCALENDAR
VERSION:2.0
PRODID:-//Alhoda Azhar - ECPv6.15.20//NONSGML v1.0//EN
CALSCALE:GREGORIAN
METHOD:PUBLISH
X-ORIGINAL-URL:https://www.alhodaazhar.com
X-WR-CALDESC:Events for Alhoda Azhar
REFRESH-INTERVAL;VALUE=DURATION:PT1H
X-Robots-Tag:noindex
X-PUBLISHED-TTL:PT1H
BEGIN:VTIMEZONE
TZID:Africa/Cairo
BEGIN:DAYLIGHT
TZOFFSETFROM:+0200
TZOFFSETTO:+0300
TZNAME:EEST
DTSTART:20240425T220000
END:DAYLIGHT
BEGIN:STANDARD
TZOFFSETFROM:+0300
TZOFFSETTO:+0200
TZNAME:EET
DTSTART:20241031T210000
END:STANDARD
BEGIN:DAYLIGHT
TZOFFSETFROM:+0200
TZOFFSETTO:+0300
TZNAME:EEST
DTSTART:20250424T220000
END:DAYLIGHT
BEGIN:STANDARD
TZOFFSETFROM:+0300
TZOFFSETTO:+0200
TZNAME:EET
DTSTART:20251030T210000
END:STANDARD
BEGIN:DAYLIGHT
TZOFFSETFROM:+0200
TZOFFSETTO:+0300
TZNAME:EEST
DTSTART:20260423T220000
END:DAYLIGHT
BEGIN:STANDARD
TZOFFSETFROM:+0300
TZOFFSETTO:+0200
TZNAME:EET
DTSTART:20261029T210000
END:STANDARD
END:VTIMEZONE
BEGIN:VEVENT
DTSTART;TZID=Africa/Cairo:20251231T080000
DTEND;TZID=Africa/Cairo:20251231T143000
DTSTAMP:20260422T214431
CREATED:20251007T063407Z
LAST-MODIFIED:20251229T114458Z
UID:4281-1767168000-1767191400@www.alhodaazhar.com
SUMMARY:E.A.L Exam (Pr.6)
DESCRIPTION:We would like to announce that E.A.L. exam (Pr.6) will be held . ✏️📘Students are encouraged to review their lessons carefully and do their best to achieve great results.
URL:https://www.alhodaazhar.com/event/first-term-exam-pr-3-5/
CATEGORIES:Exams
END:VEVENT
BEGIN:VEVENT
DTSTART;TZID=Africa/Cairo:20251231T080000
DTEND;TZID=Africa/Cairo:20251231T170000
DTSTAMP:20260422T214431
CREATED:20251229T115024Z
LAST-MODIFIED:20251229T115043Z
UID:4746-1767168000-1767200400@www.alhodaazhar.com
SUMMARY:امتحان القرآن الكريم الشفوي (P.4\,5)
DESCRIPTION:تُعلن إدارة المدرسة عن عقد اختبار القرآن الكريم للطلاب، وذلك في الموعد المحدد حسب الجدول المُعلن.نرجو من جميع الطلاب الاستعداد الجيد والالتزام بالحضور في الوقت المحدد
URL:https://www.alhodaazhar.com/event/%d8%a7%d9%85%d8%aa%d8%ad%d8%a7%d9%86-%d8%a7%d9%84%d9%82%d8%b1%d8%a2%d9%86-%d8%a7%d9%84%d9%83%d8%b1%d9%8a%d9%85-%d8%a7%d9%84%d8%b4%d9%81%d9%88%d9%8a-p-45/
END:VEVENT
END:VCALENDAR