BEGIN:VCALENDAR
VERSION:2.0
PRODID:-//Alhoda Azhar - ECPv6.15.20//NONSGML v1.0//EN
CALSCALE:GREGORIAN
METHOD:PUBLISH
X-WR-CALNAME:Alhoda Azhar
X-ORIGINAL-URL:https://www.alhodaazhar.com
X-WR-CALDESC:Events for Alhoda Azhar
REFRESH-INTERVAL;VALUE=DURATION:PT1H
X-Robots-Tag:noindex
X-PUBLISHED-TTL:PT1H
BEGIN:VTIMEZONE
TZID:Africa/Cairo
BEGIN:DAYLIGHT
TZOFFSETFROM:+0200
TZOFFSETTO:+0300
TZNAME:EEST
DTSTART:20240425T220000
END:DAYLIGHT
BEGIN:STANDARD
TZOFFSETFROM:+0300
TZOFFSETTO:+0200
TZNAME:EET
DTSTART:20241031T210000
END:STANDARD
BEGIN:DAYLIGHT
TZOFFSETFROM:+0200
TZOFFSETTO:+0300
TZNAME:EEST
DTSTART:20250424T220000
END:DAYLIGHT
BEGIN:STANDARD
TZOFFSETFROM:+0300
TZOFFSETTO:+0200
TZNAME:EET
DTSTART:20251030T210000
END:STANDARD
BEGIN:DAYLIGHT
TZOFFSETFROM:+0200
TZOFFSETTO:+0300
TZNAME:EEST
DTSTART:20260423T220000
END:DAYLIGHT
BEGIN:STANDARD
TZOFFSETFROM:+0300
TZOFFSETTO:+0200
TZNAME:EET
DTSTART:20261029T210000
END:STANDARD
END:VTIMEZONE
BEGIN:VEVENT
DTSTART;TZID=Africa/Cairo:20251214T080000
DTEND;TZID=Africa/Cairo:20251218T150000
DTSTAMP:20260423T005950
CREATED:20251030T073008Z
LAST-MODIFIED:20251030T073008Z
UID:4597-1765699200-1766070000@www.alhodaazhar.com
SUMMARY:Trip Week (KG 1 & 2)
DESCRIPTION:
URL:https://www.alhodaazhar.com/event/trip-week-kg-1-2/
CATEGORIES:KG
END:VEVENT
BEGIN:VEVENT
DTSTART;TZID=Africa/Cairo:20251218T080000
DTEND;TZID=Africa/Cairo:20251218T150000
DTSTAMP:20260423T005950
CREATED:20251007T061855Z
LAST-MODIFIED:20251007T062956Z
UID:4276-1766044800-1766070000@www.alhodaazhar.com
SUMMARY:يوم اللغة العربية
DESCRIPTION:نحتفل باليوم العالمي للغة العربية تقديرًا لجمال لغتنا وأصالتها العريقة. ✨📚يهدف هذا اليوم إلى تعزيز حب اللغة العربية في قلوب طلابنا وتنمية فخرهم بها.
URL:https://www.alhodaazhar.com/event/4276/
END:VEVENT
END:VCALENDAR