BEGIN:VCALENDAR
VERSION:2.0
PRODID:-//Alhoda Azhar - ECPv6.15.20//NONSGML v1.0//EN
CALSCALE:GREGORIAN
METHOD:PUBLISH
X-WR-CALNAME:Alhoda Azhar
X-ORIGINAL-URL:https://www.alhodaazhar.com
X-WR-CALDESC:Events for Alhoda Azhar
REFRESH-INTERVAL;VALUE=DURATION:PT1H
X-Robots-Tag:noindex
X-PUBLISHED-TTL:PT1H
BEGIN:VTIMEZONE
TZID:Africa/Cairo
BEGIN:DAYLIGHT
TZOFFSETFROM:+0200
TZOFFSETTO:+0300
TZNAME:EEST
DTSTART:20240425T220000
END:DAYLIGHT
BEGIN:STANDARD
TZOFFSETFROM:+0300
TZOFFSETTO:+0200
TZNAME:EET
DTSTART:20241031T210000
END:STANDARD
BEGIN:DAYLIGHT
TZOFFSETFROM:+0200
TZOFFSETTO:+0300
TZNAME:EEST
DTSTART:20250424T220000
END:DAYLIGHT
BEGIN:STANDARD
TZOFFSETFROM:+0300
TZOFFSETTO:+0200
TZNAME:EET
DTSTART:20251030T210000
END:STANDARD
BEGIN:DAYLIGHT
TZOFFSETFROM:+0200
TZOFFSETTO:+0300
TZNAME:EEST
DTSTART:20260423T220000
END:DAYLIGHT
BEGIN:STANDARD
TZOFFSETFROM:+0300
TZOFFSETTO:+0200
TZNAME:EET
DTSTART:20261029T210000
END:STANDARD
END:VTIMEZONE
BEGIN:VEVENT
DTSTART;VALUE=DATE:20251119
DTEND;VALUE=DATE:20251121
DTSTAMP:20260423T021124
CREATED:20251030T072544Z
LAST-MODIFIED:20251030T072826Z
UID:4595-1763510400-1763683199@www.alhodaazhar.com
SUMMARY:KG. Vacation
DESCRIPTION:
URL:https://www.alhodaazhar.com/event/kg-vacation/
CATEGORIES:KG
END:VEVENT
BEGIN:VEVENT
DTSTART;TZID=Africa/Cairo:20251119T080000
DTEND;TZID=Africa/Cairo:20251119T150000
DTSTAMP:20260423T021124
CREATED:20251006T083437Z
LAST-MODIFIED:20251006T084832Z
UID:4246-1763539200-1763564400@www.alhodaazhar.com
SUMMARY:Pr.2 Event (Parents)
DESCRIPTION:Primary 2 Activity Day will be held for students and their parents.Join us for a fun day of learning\, games\, and shared activities.
URL:https://www.alhodaazhar.com/event/pr-2-event-parents/
END:VEVENT
END:VCALENDAR