BEGIN:VCALENDAR
VERSION:2.0
PRODID:-//Alhoda Azhar - ECPv6.15.20//NONSGML v1.0//EN
CALSCALE:GREGORIAN
METHOD:PUBLISH
X-ORIGINAL-URL:https://www.alhodaazhar.com
X-WR-CALDESC:Events for Alhoda Azhar
REFRESH-INTERVAL;VALUE=DURATION:PT1H
X-Robots-Tag:noindex
X-PUBLISHED-TTL:PT1H
BEGIN:VTIMEZONE
TZID:Africa/Cairo
BEGIN:DAYLIGHT
TZOFFSETFROM:+0200
TZOFFSETTO:+0300
TZNAME:EEST
DTSTART:20240425T220000
END:DAYLIGHT
BEGIN:STANDARD
TZOFFSETFROM:+0300
TZOFFSETTO:+0200
TZNAME:EET
DTSTART:20241031T210000
END:STANDARD
BEGIN:DAYLIGHT
TZOFFSETFROM:+0200
TZOFFSETTO:+0300
TZNAME:EEST
DTSTART:20250424T220000
END:DAYLIGHT
BEGIN:STANDARD
TZOFFSETFROM:+0300
TZOFFSETTO:+0200
TZNAME:EET
DTSTART:20251030T210000
END:STANDARD
BEGIN:DAYLIGHT
TZOFFSETFROM:+0200
TZOFFSETTO:+0300
TZNAME:EEST
DTSTART:20260423T220000
END:DAYLIGHT
BEGIN:STANDARD
TZOFFSETFROM:+0300
TZOFFSETTO:+0200
TZNAME:EET
DTSTART:20261029T210000
END:STANDARD
END:VTIMEZONE
BEGIN:VEVENT
DTSTART;TZID=Africa/Cairo:20250916T080000
DTEND;TZID=Africa/Cairo:20250916T143000
DTSTAMP:20260423T050516
CREATED:20251029T092000Z
LAST-MODIFIED:20251029T092116Z
UID:4534-1758009600-1758033000@www.alhodaazhar.com
SUMMARY:Welcome Day (Pr. 1)
DESCRIPTION:Welcome back\, inspiring Pr. 1 students! Your passion and dedication light the path to another year of learning and growth.
URL:https://www.alhodaazhar.com/event/welcome-day-pr-1/
CATEGORIES:Welcome back
END:VEVENT
BEGIN:VEVENT
DTSTART;TZID=Africa/Cairo:20250916T080000
DTEND;TZID=Africa/Cairo:20250916T143000
DTSTAMP:20260423T050516
CREATED:20251030T064243Z
LAST-MODIFIED:20251030T064243Z
UID:4568-1758009600-1758033000@www.alhodaazhar.com
SUMMARY:استلام خامات وتسليم الكتب KG1
DESCRIPTION:نحيطكم علمًا بأنه سيتم استلام الخامات وتسليم الكتب الخاصة بطلاب KG1
URL:https://www.alhodaazhar.com/event/%d8%a7%d8%b3%d8%aa%d9%84%d8%a7%d9%85-%d8%ae%d8%a7%d9%85%d8%a7%d8%aa-%d9%88%d8%aa%d8%b3%d9%84%d9%8a%d9%85-%d8%a7%d9%84%d9%83%d8%aa%d8%a8-kg1/
CATEGORIES:KG
END:VEVENT
END:VCALENDAR