BEGIN:VCALENDAR
VERSION:2.0
PRODID:-//Alhoda Azhar - ECPv6.15.20//NONSGML v1.0//EN
CALSCALE:GREGORIAN
METHOD:PUBLISH
X-WR-CALNAME:Alhoda Azhar
X-ORIGINAL-URL:https://www.alhodaazhar.com
X-WR-CALDESC:Events for Alhoda Azhar
REFRESH-INTERVAL;VALUE=DURATION:PT1H
X-Robots-Tag:noindex
X-PUBLISHED-TTL:PT1H
BEGIN:VTIMEZONE
TZID:Africa/Cairo
BEGIN:DAYLIGHT
TZOFFSETFROM:+0200
TZOFFSETTO:+0300
TZNAME:EEST
DTSTART:20240425T220000
END:DAYLIGHT
BEGIN:STANDARD
TZOFFSETFROM:+0300
TZOFFSETTO:+0200
TZNAME:EET
DTSTART:20241031T210000
END:STANDARD
BEGIN:DAYLIGHT
TZOFFSETFROM:+0200
TZOFFSETTO:+0300
TZNAME:EEST
DTSTART:20250424T220000
END:DAYLIGHT
BEGIN:STANDARD
TZOFFSETFROM:+0300
TZOFFSETTO:+0200
TZNAME:EET
DTSTART:20251030T210000
END:STANDARD
BEGIN:DAYLIGHT
TZOFFSETFROM:+0200
TZOFFSETTO:+0300
TZNAME:EEST
DTSTART:20260423T220000
END:DAYLIGHT
BEGIN:STANDARD
TZOFFSETFROM:+0300
TZOFFSETTO:+0200
TZNAME:EET
DTSTART:20261029T210000
END:STANDARD
END:VTIMEZONE
BEGIN:VEVENT
DTSTART;VALUE=DATE:20250904
DTEND;VALUE=DATE:20250905
DTSTAMP:20260423T050316
CREATED:20251007T065413Z
LAST-MODIFIED:20251029T114332Z
UID:4294-1756944000-1757030399@www.alhodaazhar.com
SUMMARY:(KG)إجازة المولد النبوي الشريف
DESCRIPTION:كل عام وانتم بخير
URL:https://www.alhodaazhar.com/event/%d8%a7%d8%ad%d8%aa%d9%81%d8%a7%d9%84-%d8%ae%d8%aa%d9%85-%d8%b1%d8%a8%d8%b9-%d9%8a%d8%b3/
CATEGORIES:KG
END:VEVENT
BEGIN:VEVENT
DTSTART;VALUE=DATE:20250904
DTEND;VALUE=DATE:20250905
DTSTAMP:20260423T050316
CREATED:20251029T083722Z
LAST-MODIFIED:20251029T083919Z
UID:4513-1756944000-1757030399@www.alhodaazhar.com
SUMMARY:إجازة المولد النبوي الشريف
DESCRIPTION:  \n \n  تُعلن المدرسة عن إجازة رسمية يوم المولد النبوي الشريف، احتفاءً بذكرى مولد خير الأنام صلى الله عليه وسلم \nوكل عام وأنتم بخير
URL:https://www.alhodaazhar.com/event/%d8%a5%d8%ac%d8%a7%d8%b2%d8%a9-%d8%a7%d9%84%d9%85%d9%88%d9%84%d8%af-%d8%a7%d9%84%d9%86%d8%a8%d9%88%d9%8a-%d8%a7%d9%84%d8%b4%d8%b1%d9%8a%d9%81/
END:VEVENT
END:VCALENDAR