BEGIN:VCALENDAR
VERSION:2.0
PRODID:-//Alhoda Azhar - ECPv6.15.20//NONSGML v1.0//EN
CALSCALE:GREGORIAN
METHOD:PUBLISH
X-ORIGINAL-URL:https://www.alhodaazhar.com
X-WR-CALDESC:Events for Alhoda Azhar
REFRESH-INTERVAL;VALUE=DURATION:PT1H
X-Robots-Tag:noindex
X-PUBLISHED-TTL:PT1H
BEGIN:VTIMEZONE
TZID:Africa/Cairo
BEGIN:DAYLIGHT
TZOFFSETFROM:+0200
TZOFFSETTO:+0300
TZNAME:EEST
DTSTART:20240425T220000
END:DAYLIGHT
BEGIN:STANDARD
TZOFFSETFROM:+0300
TZOFFSETTO:+0200
TZNAME:EET
DTSTART:20241031T210000
END:STANDARD
BEGIN:DAYLIGHT
TZOFFSETFROM:+0200
TZOFFSETTO:+0300
TZNAME:EEST
DTSTART:20250424T220000
END:DAYLIGHT
BEGIN:STANDARD
TZOFFSETFROM:+0300
TZOFFSETTO:+0200
TZNAME:EET
DTSTART:20251030T210000
END:STANDARD
BEGIN:DAYLIGHT
TZOFFSETFROM:+0200
TZOFFSETTO:+0300
TZNAME:EEST
DTSTART:20260423T220000
END:DAYLIGHT
BEGIN:STANDARD
TZOFFSETFROM:+0300
TZOFFSETTO:+0200
TZNAME:EET
DTSTART:20261029T210000
END:STANDARD
END:VTIMEZONE
BEGIN:VEVENT
DTSTART;TZID=Africa/Cairo:20250901T080000
DTEND;TZID=Africa/Cairo:20250903T143000
DTSTAMP:20260423T062707
CREATED:20251029T084306Z
LAST-MODIFIED:20251029T084355Z
UID:4516-1756713600-1756909800@www.alhodaazhar.com
SUMMARY:تسليم كتب واستلام أدوات (Pr. 1\,4\,5\,6)
DESCRIPTION:تسليم كتب واستلام أدوات (Pr. 1\,4\,5\,6)
URL:https://www.alhodaazhar.com/event/%d8%aa%d8%b3%d9%84%d9%8a%d9%85-%d9%83%d8%aa%d8%a8-%d9%88%d8%a7%d8%b3%d8%aa%d9%84%d8%a7%d9%85-%d8%a3%d8%af%d9%88%d8%a7%d8%aa-pr-1456/
END:VEVENT
END:VCALENDAR